BEGIN:VCALENDAR
VERSION:2.0
PRODID:-//CRATB - ECPv6.0.13//NONSGML v1.0//EN
CALSCALE:GREGORIAN
METHOD:PUBLISH
X-WR-CALNAME:CRATB
X-ORIGINAL-URL:https://cratb-aura.fr
X-WR-CALDESC:évènements pour CRATB
REFRESH-INTERVAL;VALUE=DURATION:PT1H
X-Robots-Tag:noindex
X-PUBLISHED-TTL:PT1H
BEGIN:VTIMEZONE
TZID:Europe/Paris
BEGIN:DAYLIGHT
TZOFFSETFROM:+0100
TZOFFSETTO:+0200
TZNAME:CEST
DTSTART:20230326T010000
END:DAYLIGHT
BEGIN:STANDARD
TZOFFSETFROM:+0200
TZOFFSETTO:+0100
TZNAME:CET
DTSTART:20231029T010000
END:STANDARD
END:VTIMEZONE
BEGIN:VEVENT
DTSTART;TZID=Europe/Paris:20231018T090000
DTEND;TZID=Europe/Paris:20231019T163000
DTSTAMP:20260419T183122
CREATED:20230717T071458Z
LAST-MODIFIED:20230717T071458Z
UID:10000032-1697619600-1697733000@cratb-aura.fr
SUMMARY:Séminaire SPILF : Implémenter un programme de Bon Usage des Anti-infectieux
DESCRIPTION:Le 5ème séminaire de la SPILF se déroulera le 18 et 19 octobre à Paris. \nPour en savoir plus \nInscription directement sur cette adresse mail : c.cheneau@infectiologie.com
URL:https://cratb-aura.fr/event/seminaire-spilf-implementer-un-programme-de-bon-usage-des-anti-infectieux/
LOCATION:Paris
ATTACH;FMTTYPE=image/png:https://cratb-aura.fr/wp-content/uploads/2023/07/seminaire_spilf.png
END:VEVENT
END:VCALENDAR